BEGIN:VCALENDAR
VERSION:2.0
PRODID:-//halb so wild - ECPv6.5.0//NONSGML v1.0//EN
CALSCALE:GREGORIAN
METHOD:PUBLISH
X-WR-CALNAME:halb so wild
X-ORIGINAL-URL:https://halb-so-wild.de
X-WR-CALDESC:Veranstaltungen für halb so wild
REFRESH-INTERVAL;VALUE=DURATION:PT1H
X-Robots-Tag:noindex
X-PUBLISHED-TTL:PT1H
BEGIN:VTIMEZONE
TZID:Europe/Berlin
BEGIN:DAYLIGHT
TZOFFSETFROM:+0100
TZOFFSETTO:+0200
TZNAME:CEST
DTSTART:20240331T010000
END:DAYLIGHT
BEGIN:STANDARD
TZOFFSETFROM:+0200
TZOFFSETTO:+0100
TZNAME:CET
DTSTART:20241027T010000
END:STANDARD
BEGIN:DAYLIGHT
TZOFFSETFROM:+0100
TZOFFSETTO:+0200
TZNAME:CEST
DTSTART:20250330T010000
END:DAYLIGHT
BEGIN:STANDARD
TZOFFSETFROM:+0200
TZOFFSETTO:+0100
TZNAME:CET
DTSTART:20251026T010000
END:STANDARD
END:VTIMEZONE
BEGIN:VEVENT
DTSTART;TZID=Europe/Berlin:20250705T100000
DTEND;TZID=Europe/Berlin:20250706T170000
DTSTAMP:20260421T232716
CREATED:20241125T101633Z
LAST-MODIFIED:20250526T073808Z
UID:10000056-1751709600-1751821200@halb-so-wild.de
SUMMARY:[Nur noch Passivplätze] Workshop „Körpersprache“ mit Daniel Herter
DESCRIPTION:„Unsere Hunde beherrschen die körpersprachliche Kommunikation par excellence.\nDurchaus sinnvoll also\, dass wir Menschen uns darin schulen\, unsere körpersprachlichen „Aussagen“ gegenüber unseren Vierbeinern möglichst verständlich zu formulieren. \nDer Praxistag Körpersprache eröffnet dir einen ganz besonderen Zugang zur „Sprache des Hundes“.\nEs geht hier nicht ums Nachahmen\, feste Schrittfolgen\, oder um abstrakte Videoanalysen. Vielmehr geht es um das Verstehen und das Anwenden in Form von „Learning by doing“ im direkten „Gespräch“ mit deinem Hund. \nKörpersprache ganzheitlich zu verstehen und praktisch zu erfahren ist das Ziel dieses Tages. \nEin wesentlich besseres Verständnis zwischen Mensch und Hund entsteht dabei automatisch.“ \n  \nDies war der bisherige Text zum „Praxistag Körpersprache“. Und der bleibt auch so bestehen.\nAllerdings kam seit 2024 zu dieser Veranstaltung nicht nur ein zusätzlicher Tag hinzu\, sondern auch weiterführende Inhalte. \nKörpersprache verstehen bedeutet nicht nur „Wie sieht jemand gerade aus?“. Denn nicht jeder Hund benutzt die selben „Vokabeln“.\nDie Kommunikation zwischen Dir und Deinem Hund ist vielmehr etwas organisches. Es entsteht und verändert sich.\nWie so etwas entsteht\, welche Faktoren diese Veränderungen beeinflussen – diesen Themen wollen wir mit dem zusätzlichen Tag einen Raum geben. \nDarum gibt es seit diesem Jahr den zweitägigen „Workshop Körpersprache“. \n  \nAktive Teilnahme 275.- Euro (8 Plätze) \nPassive Teilnahme 220.- Euro (10 Plätze) \nEigene Hunde dürfen selbstverständlich gerne mitgebracht werden. Läufige Hündinnen müssen leider Zuhause bleiben. \n  \nAnmeldungen bitte mit vollständigem Namen und Anschrift an: anfrage@halb-so-wild.de \n  \nWir freuen uns auf euch! \n  \nDas Seminar wird\, mit 12 Stunden\, von der Tierärztekammer Schleswig-Holstein als Fortbildung anerkannt.
URL:https://halb-so-wild.de/veranstaltung/workshop-koerpersprache-mit-daniel-herter-2/
LOCATION:Verein für deutsche Schäferhunde (SV) e.V.\, Vogelleite 17\, Rödental\, Bayern\, 96472
CATEGORIES:Seminar Hundehalter,Seminar Hundetrainer
ATTACH;FMTTYPE=image/jpeg:https://halb-so-wild.de/wp-content/uploads/2024/02/koerpersprache2.jpg
ORGANIZER;CN="halb so wild":MAILTO:anfrage@halb-so-wild.de
GEO:50.2420979;11.3113054
X-APPLE-STRUCTURED-LOCATION;VALUE=URI;X-ADDRESS=Verein für deutsche Schäferhunde (SV) e.V. Vogelleite 17 Rödental Bayern 96472;X-APPLE-RADIUS=500;X-TITLE=Vogelleite 17:geo:11.3113054,50.2420979
END:VEVENT
BEGIN:VEVENT
DTSTART;TZID=Europe/Berlin:20240706T100000
DTEND;TZID=Europe/Berlin:20240707T170000
DTSTAMP:20260421T232716
CREATED:20240307T180555Z
LAST-MODIFIED:20240508T183537Z
UID:10000029-1720260000-1720371600@halb-so-wild.de
SUMMARY:Workshop „Körpersprache“ (2 Tage) mit Daniel Herter
DESCRIPTION:Nur noch passive Plätze frei! \n  \n„Unsere Hunde beherrschen die körpersprachliche Kommunikation par excellence.\nDurchaus sinnvoll also\, dass wir Menschen uns darin schulen\, unsere körpersprachlichen „Aussagen“ gegenüber unseren Vierbeinern möglichst verständlich zu formulieren. \nDer Praxistag Körpersprache eröffnet dir einen ganz besonderen Zugang zur „Sprache des Hundes“.\nEs geht hier nicht ums Nachahmen\, feste Schrittfolgen\, oder um abstrakte Videoanalysen. Vielmehr geht es um das Verstehen und das Anwenden in Form von „Learning by doing“ im direkten „Gespräch“ mit deinem Hund. \nKörpersprache ganzheitlich zu verstehen und praktisch zu erfahren ist das Ziel dieses Tages. \nEin wesentlich besseres Verständnis zwischen Mensch und Hund entsteht dabei automatisch.“ \n  \nDies war der bisherige Text zum „Praxistag Körpersprache“. Und der bleibt auch so bestehen.\nAllerdings kam seit 2024 zu dieser Veranstaltung nicht nur ein zusätzlicher Tag hinzu\, sondern auch weiterführende Inhalte. \nKörpersprache verstehen bedeutet nicht nur „Wie sieht jemand gerade aus?“. Denn nicht jeder Hund benutzt die selben „Vokabeln“.\nDie Kommunikation zwischen Dir und Deinem Hund ist vielmehr etwas organisches. Es entsteht und verändert sich.\nWie so etwas entsteht\, welche Faktoren diese Veränderungen beeinflussen – diesen Themen wollen wir mit dem zusätzlichen Tag einen Raum geben. \nDarum gibt es seit diesem Jahr den zweitägigen „Praxistag Körpersprache x-tendet“.\nUnd ja\, der Name könnte besser sein… \n…der Inhalt dafür aber kaum. \n  \nAktive Teilnahme 275.- Euro \nPassive Teilnahme 220.- Euro \n  \nAnfragen und Anmeldungen bitte per Mail an \nanfrage@halb-so-wild.de
URL:https://halb-so-wild.de/veranstaltung/workshop-koerpersprache-2-tage-mit-daniel-herter/
LOCATION:Verein für deutsche Schäferhunde (SV) e.V.\, Vogelleite 17\, Rödental\, Bayern\, 96472
CATEGORIES:Seminar Hundehalter,Seminar Hundetrainer
ATTACH;FMTTYPE=image/jpeg:https://halb-so-wild.de/wp-content/uploads/2024/02/koerpersprache2.jpg
ORGANIZER;CN="halb so wild":MAILTO:anfrage@halb-so-wild.de
GEO:50.2420979;11.3113054
X-APPLE-STRUCTURED-LOCATION;VALUE=URI;X-ADDRESS=Verein für deutsche Schäferhunde (SV) e.V. Vogelleite 17 Rödental Bayern 96472;X-APPLE-RADIUS=500;X-TITLE=Vogelleite 17:geo:11.3113054,50.2420979
END:VEVENT
BEGIN:VEVENT
DTSTART;TZID=Europe/Berlin:20240427T100000
DTEND;TZID=Europe/Berlin:20240427T170000
DTSTAMP:20260421T232716
CREATED:20240306T150047Z
LAST-MODIFIED:20240306T153719Z
UID:10000018-1714212000-1714237200@halb-so-wild.de
SUMMARY:Tagesworkshop "Verbindend verbindlich" mit Sara Brüstle
DESCRIPTION:In dieser schnelllebigen Zeit\, in der man so schnell wie man einer Veranstaltung durch einen Klick zusagt\, diese auch wieder absagen kann\, wirken unsere Hunde als Entschleuniger und sind ein Faktor gegen die Naturentfremdung. \nDoch das Zusammenleben mit Hunden besteht nicht nur darin\, dass wir Menschen uns die Kirschen von der Torte picken. Sondern vorallem brauchen unsere Hunde eines\, nämlich Beständigkeit. Diese gibt es nicht geschenkt und es ist manchmal sogar anstrengend. Wir Hundehalter sind gefragt\, wenn es um den Beziehungsaufbau geht und darum\, Regeln verständlich zu machen\, Grenzen festzusetzen\, Signalgehorsam einzutrainieren und das Ganze dann am Besten auch noch verbindlich. \nDoch was meint eigentlich dieses ‚verbindlich sein‘ und welche Fallstricke sind häufig der Grund\, wenn Training einfach nur Training bleibt und man gefühlt im Alltag nicht weiter kommt mit seinem Hund? \nDen Preis für diese Veranstaltung sowie weitere Details erfährst Du direkt über den Veranstalter halb so wild Oberfranken (DogTEAM).
URL:https://halb-so-wild.de/veranstaltung/tagesworkshop-verbindend-verbindlich-mit-sara-bruestle/
LOCATION:Verein für deutsche Schäferhunde (SV) e.V.\, Vogelleite 17\, Rödental\, Bayern\, 96472
ATTACH;FMTTYPE=image/jpeg:https://halb-so-wild.de/wp-content/uploads/2024/03/SaraBruestle_HundeschulehswPfalz-1.jpg
GEO:50.2420979;11.3113054
X-APPLE-STRUCTURED-LOCATION;VALUE=URI;X-ADDRESS=Verein für deutsche Schäferhunde (SV) e.V. Vogelleite 17 Rödental Bayern 96472;X-APPLE-RADIUS=500;X-TITLE=Vogelleite 17:geo:11.3113054,50.2420979
END:VEVENT
END:VCALENDAR